BEGIN:VCALENDAR
VERSION:2.0
PRODID:-//Squarespace Inc/Squarespace 6//v6//EN
BEGIN:VEVENT
UID:5c9c19661905f47ea5a1b664@squarespace.com
DTSTAMP:20190328T004728Z
DTSTART:20190627T230000Z
DTEND:20190628T051500Z
SUMMARY:VISITATION - Last day of Term 2
END:VEVENT
END:VCALENDAR
