BEGIN:VCALENDAR
VERSION:2.0
PRODID:-//Squarespace Inc/Squarespace 6//v6//EN
BEGIN:VEVENT
UID:5c9c19238165f52bffc3c038@squarespace.com
DTSTAMP:20190328T004616Z
DTSTART:20190613T230000Z
DTEND:20190614T051500Z
SUMMARY:VISITATION - NO CLASSES
END:VEVENT
END:VCALENDAR
