BEGIN:VCALENDAR
VERSION:2.0
PRODID:-//Squarespace Inc/Squarespace 6//v6//EN
BEGIN:VEVENT
UID:5c9c17c8e2c483de78d71f0a@squarespace.com
DTSTAMP:20190328T004036Z
DTSTART:20190507T230000Z
DTEND:20190510T050000Z
SUMMARY:YEAR 7 - 10 CAMP
END:VEVENT
END:VCALENDAR
