BEGIN:VCALENDAR
VERSION:2.0
PRODID:-//Squarespace Inc/Squarespace 6//v6//EN
BEGIN:VEVENT
UID:5c9c18edfa0d6034407a7d54@squarespace.com
DTSTAMP:20190328T004507Z
DTSTART:20190530T230000Z
DTEND:20190531T051500Z
SUMMARY:VISITATION - NO CLASSES
END:VEVENT
END:VCALENDAR
