BEGIN:VCALENDAR
VERSION:2.0
PRODID:-//Squarespace Inc/Squarespace 6//v6//EN
BEGIN:VEVENT
UID:5c9c1862104c7bac7fdffd65@squarespace.com
DTSTAMP:20190328T004412Z
DTSTART:20190526T230000Z
DTEND:20190527T051500Z
SUMMARY:STUDENT FREE DAY - NO CLASSES
END:VEVENT
END:VCALENDAR
