BEGIN:VCALENDAR
VERSION:2.0
PRODID:-//Squarespace Inc/Squarespace 6//v6//EN
BEGIN:VEVENT
UID:5c9c1813104c7bac7fdff8f1@squarespace.com
DTSTAMP:20190328T004156Z
DTSTART:20190516T230000Z
DTEND:20190517T051500Z
SUMMARY:VISITATION - NO CLASSES
END:VEVENT
END:VCALENDAR
