BEGIN:VCALENDAR
VERSION:2.0
PRODID:-//Squarespace Inc/Squarespace 6//v6//EN
BEGIN:VEVENT
UID:5c947205e79c703f727e434a@squarespace.com
DTSTAMP:20190325T213809Z
DTSTART:20190404T220000Z
DTEND:20190405T060000Z
SUMMARY:VISITATION  Last Day of Term 1
END:VEVENT
END:VCALENDAR
