BEGIN:VCALENDAR
VERSION:2.0
PRODID:-//Squarespace Inc/Squarespace 6//v6//EN
BEGIN:VEVENT
UID:5c9c14b36e9a7f0d39c941f2@squarespace.com
DTSTAMP:20190328T002750Z
DTSTART:20190403T220000Z
DTEND:20190404T043000Z
SUMMARY:STUDENT FREE DAY
END:VEVENT
END:VCALENDAR
