BEGIN:VCALENDAR
VERSION:2.0
PRODID:-//Squarespace Inc/Squarespace 6//v6//EN
BEGIN:VEVENT
UID:5c9c15be4469d90001574a80@squarespace.com
DTSTAMP:20190328T003150Z
DTSTART:20190424T230000Z
DTEND:20190425T051500Z
SUMMARY:ANZAC DAY
END:VEVENT
END:VCALENDAR
