BEGIN:VCALENDAR
VERSION:2.0
PRODID:-//Squarespace Inc/Squarespace 6//v6//EN
BEGIN:VEVENT
UID:5c9c152aeef1a1955524cbb3@squarespace.com
DTSTAMP:20190328T002957Z
DTSTART:20190422T230000Z
DTEND:20190423T051500Z
SUMMARY:TERM 2 RESUMES
END:VEVENT
END:VCALENDAR
