BEGIN:VCALENDAR
VERSION:2.0
PRODID:-//Squarespace Inc/Squarespace 6//v6//EN
BEGIN:VEVENT
UID:5c9c16080d9297641a37fb1c@squarespace.com
DTSTAMP:20190328T003916Z
DTSTART:20190502T230000Z
DTEND:20190503T051500Z
SUMMARY:VISITATION - NO CLASSES
END:VEVENT
END:VCALENDAR
