BEGIN:VCALENDAR
VERSION:2.0
PRODID:-//Squarespace Inc/Squarespace 6//v6//EN
BEGIN:VEVENT
UID:5bfa54e1758d46cefdd94f9d@squarespace.com
DTSTAMP:20181125T075329Z
DTSTART:20181219T080000Z
DTEND:20181219T090000Z
SUMMARY:Last Day Office Open
END:VEVENT
END:VCALENDAR
