BEGIN:VCALENDAR
VERSION:2.0
PRODID:-//Squarespace Inc/Squarespace 6//v6//EN
BEGIN:VEVENT
UID:5bfa549d4d7a9c8adb2eccca@squarespace.com
DTSTAMP:20181125T075253Z
DTSTART:20181217T080000Z
DTEND:20181218T090000Z
SUMMARY:Staff Professional Learning
END:VEVENT
END:VCALENDAR
