BEGIN:VCALENDAR
VERSION:2.0
PRODID:-//Squarespace Inc/Squarespace 6//v6//EN
BEGIN:VEVENT
UID:5bfa54734fa51a471a6ff9d5@squarespace.com
DTSTAMP:20181125T075145Z
DTSTART:20181213T080000Z
DTEND:20181214T090000Z
SUMMARY:Staff Professional Learning
END:VEVENT
END:VCALENDAR
