BEGIN:VCALENDAR
VERSION:2.0
PRODID:-//Squarespace Inc/Squarespace 6//v6//EN
BEGIN:VEVENT
UID:5bfa53d7352f534626d4d8c7@squarespace.com
DTSTAMP:20181125T074904Z
DTSTART:20181212T080000Z
DTEND:20181212T090000Z
SUMMARY:Stand Tall
END:VEVENT
END:VCALENDAR
