BEGIN:VCALENDAR
VERSION:2.0
PRODID:-//Squarespace Inc/Squarespace 6//v6//EN
BEGIN:VEVENT
UID:5bfa541770a6ad835e6acf3b@squarespace.com
DTSTAMP:20181125T075003Z
DTSTART:20181212T080000Z
DTEND:20181212T090000Z
SUMMARY:Last Day for Students
END:VEVENT
END:VCALENDAR
