BEGIN:VCALENDAR
VERSION:2.0
PRODID:-//Squarespace Inc/Squarespace 6//v6//EN
BEGIN:VEVENT
UID:5bfa53641ae6cf43c2ad8b05@squarespace.com
DTSTAMP:20181125T074824Z
DTSTART:20181211T140000Z
DTEND:20181211T203000Z
SUMMARY:Student Activities Day
END:VEVENT
END:VCALENDAR
