BEGIN:VCALENDAR
VERSION:2.0
PRODID:-//Squarespace Inc/Squarespace 6//v6//EN
BEGIN:VEVENT
UID:5bfa29f640ec9ad433a919a7@squarespace.com
DTSTAMP:20181127T033413Z
DTSTART:20181130T213000Z
DTEND:20181202T193000Z
SUMMARY:VEX Nationals Melbourne
END:VEVENT
END:VCALENDAR
