BEGIN:VCALENDAR
VERSION:2.0
PRODID:-//Squarespace Inc/Squarespace 6//v6//EN
BEGIN:VEVENT
UID:5bcfd294e79c7033756a50b0@squarespace.com
DTSTAMP:20181024T020547Z
DTSTART:20181020T130000Z
DTEND:20181020T190000Z
SUMMARY:VEX Robotics Regional Comp
GEO:-36.339659;146.310409
LOCATION:Galen Catholic College
END:VEVENT
END:VCALENDAR
